BEGIN:VCALENDAR
PRODID:-//eluceo/ical//2.0/EN
VERSION:2.0
CALSCALE:GREGORIAN
BEGIN:VEVENT
UID:fe90afc5d1f1fbafbbfa81a53b31ec73
DTSTAMP:20260423T225900Z
SUMMARY:Convivio
DESCRIPTION:Webbplats: http://www.leopoldohotel.com\nTalare: PROGRAMMA: INF
 ORMAZIONE ROTARIANA
URL:https://rotary-luganolago.org/sv/agenda/show/163838
DTSTART;TZID=Europe/Zurich:20230913T121500
DTEND;TZID=Europe/Zurich:20230913T133000
LOCATION:Hotel Villa Principe Leopoldo\, Via Montalbano 5\, 6900 Lugano
CATEGORIES:Rotary
END:VEVENT
BEGIN:VTIMEZONE
TZID:Europe/Zurich
BEGIN:DAYLIGHT
DTSTART:20230913T121500
TZNAME:CEST
TZOFFSETTO:+0200
TZOFFSETFROM:+0200
END:DAYLIGHT
END:VTIMEZONE
END:VCALENDAR
