BEGIN:VCALENDAR
PRODID:-//eluceo/ical//2.0/EN
VERSION:2.0
CALSCALE:GREGORIAN
BEGIN:VEVENT
UID:c69d8b44029e143a4b8302d8e69a88bc
DTSTAMP:20260423T100200Z
SUMMARY:Convivio
DESCRIPTION:Webbplats: http://www.leopoldohotel.com
URL:https://rotary-luganolago.org/sv/agenda/show/150060
DTSTART;TZID=Europe/Zurich:20221026T121500
DTEND;TZID=Europe/Zurich:20221026T133000
LOCATION:Hotel Villa Principe Leopoldo\, Via Montalbano 5\, 6900 Lugano
CATEGORIES:Rotary
END:VEVENT
BEGIN:VTIMEZONE
TZID:Europe/Zurich
BEGIN:DAYLIGHT
DTSTART:20221026T121500
TZNAME:CEST
TZOFFSETTO:+0200
TZOFFSETFROM:+0200
END:DAYLIGHT
END:VTIMEZONE
END:VCALENDAR
