BEGIN:VCALENDAR
PRODID:-//eluceo/ical//2.0/EN
VERSION:2.0
CALSCALE:GREGORIAN
BEGIN:VEVENT
UID:381105f3fab2bfa2543113e62265ce82
DTSTAMP:20260421T081658Z
SUMMARY:Visita Governatrice
DESCRIPTION:Webbplats: http://www.leopoldohotel.com
URL:https://rotary-luganolago.org/sv/agenda/show/150058
DTSTART;TZID=Europe/Zurich:20221012T121500
DTEND;TZID=Europe/Zurich:20221012T133000
LOCATION:Hotel Villa Principe Leopoldo\, Via Montalbano 5\, 6900 Lugano
CATEGORIES:Rotary
END:VEVENT
BEGIN:VTIMEZONE
TZID:Europe/Zurich
BEGIN:DAYLIGHT
DTSTART:20221012T121500
TZNAME:CEST
TZOFFSETTO:+0200
TZOFFSETFROM:+0200
END:DAYLIGHT
END:VTIMEZONE
END:VCALENDAR
