BEGIN:VCALENDAR
PRODID:-//eluceo/ical//2.0/EN
VERSION:2.0
CALSCALE:GREGORIAN
BEGIN:VEVENT
UID:af77e16cf006019df40df28c436953b7
DTSTAMP:20260421T203920Z
SUMMARY:Decade - Picchetto
DESCRIPTION:
URL:https://rotary-luganolago.org/it/agenda/show/93119
DTSTART;TZID=Europe/Zurich:20190102T191500
DTEND;TZID=Europe/Zurich:20190102T191500
LOCATION:Hotel Villa Principe Leopoldo
CATEGORIES:Rotary
END:VEVENT
BEGIN:VTIMEZONE
TZID:Europe/Zurich
BEGIN:STANDARD
DTSTART:20190102T191500
TZNAME:CET
TZOFFSETTO:+0100
TZOFFSETFROM:+0100
END:STANDARD
END:VTIMEZONE
END:VCALENDAR
