BEGIN:VCALENDAR
PRODID:-//eluceo/ical//2.0/EN
VERSION:2.0
CALSCALE:GREGORIAN
BEGIN:VEVENT
UID:64fe0deb27ffafa7711d8112b57e79ef
DTSTAMP:20260421T203557Z
SUMMARY:Convivio
DESCRIPTION:
URL:https://rotary-luganolago.org/it/agenda/show/93113
DTSTART;TZID=Europe/Zurich:20190327T121500
DTEND;TZID=Europe/Zurich:20190327T121500
LOCATION:Hotel Villa Principe Leopoldo
CATEGORIES:Rotary
END:VEVENT
BEGIN:VTIMEZONE
TZID:Europe/Zurich
BEGIN:STANDARD
DTSTART:20190327T121500
TZNAME:CET
TZOFFSETTO:+0100
TZOFFSETFROM:+0100
END:STANDARD
END:VTIMEZONE
END:VCALENDAR
