BEGIN:VCALENDAR
PRODID:-//eluceo/ical//2.0/EN
VERSION:2.0
CALSCALE:GREGORIAN
BEGIN:VEVENT
UID:b53323de1fae2ad2055a32c70bf1982d
DTSTAMP:20260422T035904Z
SUMMARY:Apero/cena alla Masseria
DESCRIPTION:Sito web: http://www.leopoldohotel.com
URL:https://rotary-luganolago.org/it/agenda/show/126180
DTSTART;TZID=Europe/Zurich:20210714T191500
DTEND;TZID=Europe/Zurich:20210714T213000
LOCATION:Masseria di Cornaredo
CATEGORIES:Rotary
END:VEVENT
BEGIN:VTIMEZONE
TZID:Europe/Zurich
BEGIN:DAYLIGHT
DTSTART:20210714T191500
TZNAME:CEST
TZOFFSETTO:+0200
TZOFFSETFROM:+0200
END:DAYLIGHT
END:VTIMEZONE
END:VCALENDAR
