BEGIN:VCALENDAR
PRODID:-//eluceo/ical//2.0/EN
VERSION:2.0
CALSCALE:GREGORIAN
BEGIN:VEVENT
UID:a0d7e09a37d5a6b5effe11e1c038414d
DTSTAMP:20260422T065926Z
SUMMARY:Passaggio dei poteri
DESCRIPTION:Sito web: http://www.leopoldohotel.com
URL:https://rotary-luganolago.org/it/agenda/show/125938
DTSTART;TZID=Europe/Zurich:20210630T191500
DTEND;TZID=Europe/Zurich:20210630T191500
LOCATION:Hotel Villa Principe Leopoldo\, Via Montalbano 5\, 6900 Lugano
CATEGORIES:Rotary
END:VEVENT
BEGIN:VTIMEZONE
TZID:Europe/Zurich
BEGIN:DAYLIGHT
DTSTART:20210630T191500
TZNAME:CEST
TZOFFSETTO:+0200
TZOFFSETFROM:+0200
END:DAYLIGHT
END:VTIMEZONE
END:VCALENDAR
