BEGIN:VCALENDAR
PRODID:-//eluceo/ical//2.0/EN
VERSION:2.0
CALSCALE:GREGORIAN
BEGIN:VEVENT
UID:a473f06dd0806c2973e2b59069f11fbd
DTSTAMP:20260424T125033Z
SUMMARY:Convivio
DESCRIPTION:Vefsíða: http://www.leopoldohotel.com\nFyrirlesari(ar): 
URL:https://rotary-luganolago.org/is/agenda/show/150061
DTSTART;TZID=Europe/Zurich:20221102T191500
DTEND;TZID=Europe/Zurich:20221102T213000
LOCATION:Hotel Villa Principe Leopoldo\, Via Montalbano 5\, 6900 Lugano
CATEGORIES:Rotary
END:VEVENT
BEGIN:VTIMEZONE
TZID:Europe/Zurich
BEGIN:STANDARD
DTSTART:20221102T191500
TZNAME:CET
TZOFFSETTO:+0100
TZOFFSETFROM:+0100
END:STANDARD
END:VTIMEZONE
END:VCALENDAR
