BEGIN:VCALENDAR
PRODID:-//eluceo/ical//2.0/EN
VERSION:2.0
CALSCALE:GREGORIAN
BEGIN:VEVENT
UID:2f4c19e6279c6161bbf9c3f01eb010e5
DTSTAMP:20260424T100918Z
SUMMARY:Innovazione in cucina
DESCRIPTION:Vefsíða: http://www.leopoldohotel.com
URL:https://rotary-luganolago.org/is/agenda/show/150059
DTSTART;TZID=Europe/Zurich:20221019T191500
DTEND;TZID=Europe/Zurich:20221022T223000
LOCATION:Hotel Villa Principe Leopoldo\, Via Montalbano 5\, 6900 Lugano
CATEGORIES:Rotary
END:VEVENT
BEGIN:VTIMEZONE
TZID:Europe/Zurich
BEGIN:DAYLIGHT
DTSTART:20221019T191500
TZNAME:CEST
TZOFFSETTO:+0200
TZOFFSETFROM:+0200
END:DAYLIGHT
END:VTIMEZONE
END:VCALENDAR
