BEGIN:VCALENDAR
PRODID:-//eluceo/ical//2.0/EN
VERSION:2.0
CALSCALE:GREGORIAN
BEGIN:VEVENT
UID:43502a90d8a6ef1023c23488faf4c6fb
DTSTAMP:20260422T100111Z
SUMMARY:Rotary Corner
DESCRIPTION:Aperto ai Parnter e osptiti
URL:https://rotary-luganolago.org/fr/agenda/show/96808
DTSTART;TZID=Europe/Zurich:20190425T183000
DTEND;TZID=Europe/Zurich:20190425T183000
LOCATION:Ristorante Olimpia\, Piazza Riforma\, Lugano
CATEGORIES:Rotary
END:VEVENT
BEGIN:VTIMEZONE
TZID:Europe/Zurich
BEGIN:DAYLIGHT
DTSTART:20190425T183000
TZNAME:CEST
TZOFFSETTO:+0200
TZOFFSETFROM:+0200
END:DAYLIGHT
END:VTIMEZONE
END:VCALENDAR
