BEGIN:VCALENDAR
PRODID:-//eluceo/ical//2.0/EN
VERSION:2.0
CALSCALE:GREGORIAN
BEGIN:VEVENT
UID:e12add30272c9571fc3419358e77ea55
DTSTAMP:20260421T115158Z
SUMMARY:Passaggio dei poteri
DESCRIPTION:Aperto ai Partner ed ospiti\nSite internet: https://doodle.com/
 poll/rz96b598732tbknw
URL:https://rotary-luganolago.org/fr/agenda/show/93126
DTSTART;TZID=Europe/Zurich:20190619T191500
DTEND;TZID=Europe/Zurich:20190619T191500
LOCATION:Hotel Villa Principe Leopoldo
CATEGORIES:Rotary
END:VEVENT
BEGIN:VTIMEZONE
TZID:Europe/Zurich
BEGIN:DAYLIGHT
DTSTART:20190619T191500
TZNAME:CEST
TZOFFSETTO:+0200
TZOFFSETFROM:+0200
END:DAYLIGHT
END:VTIMEZONE
END:VCALENDAR
