BEGIN:VCALENDAR
PRODID:-//eluceo/ical//2.0/EN
VERSION:2.0
CALSCALE:GREGORIAN
BEGIN:VEVENT
UID:9193d1619fa64e737f398d418fef2530
DTSTAMP:20260422T100326Z
SUMMARY:Convivio
DESCRIPTION:
URL:https://rotary-luganolago.org/fr/agenda/show/93103
DTSTART;TZID=Europe/Zurich:20190130T191500
DTEND;TZID=Europe/Zurich:20190130T191500
LOCATION:Hotel Villa Principe Leopoldo
CATEGORIES:Rotary
END:VEVENT
BEGIN:VTIMEZONE
TZID:Europe/Zurich
BEGIN:STANDARD
DTSTART:20190130T191500
TZNAME:CET
TZOFFSETTO:+0100
TZOFFSETFROM:+0100
END:STANDARD
END:VTIMEZONE
END:VCALENDAR
