BEGIN:VCALENDAR
PRODID:-//eluceo/ical//2.0/EN
VERSION:2.0
CALSCALE:GREGORIAN
BEGIN:VEVENT
UID:813c33601331f656c773dd67a8a65cd0
DTSTAMP:20260424T084742Z
SUMMARY:Rotary Corner
DESCRIPTION:
URL:https://rotary-luganolago.org/fr/agenda/show/92732
DTSTART;TZID=Europe/Zurich:20181129T183000
DTEND;TZID=Europe/Zurich:20181129T183000
LOCATION:Ristorante Olimpia\, Piazza Riforma\, Lugano
CATEGORIES:Rotary
END:VEVENT
BEGIN:VTIMEZONE
TZID:Europe/Zurich
BEGIN:STANDARD
DTSTART:20181129T183000
TZNAME:CET
TZOFFSETTO:+0100
TZOFFSETFROM:+0100
END:STANDARD
END:VTIMEZONE
END:VCALENDAR
