BEGIN:VCALENDAR
PRODID:-//eluceo/ical//2.0/EN
VERSION:2.0
CALSCALE:GREGORIAN
BEGIN:VEVENT
UID:375e753cd5aaac1eeaedd4a07d29a654
DTSTAMP:20260422T100826Z
SUMMARY:Conferenza: Sostenere l’Orchestra: una passione\, un’impresa o 
 un’esigenza culturale? 
DESCRIPTION:Aperta ai partner\nConférencier(s): Avv. Mario Postizzi e Deni
 se Fedeli
URL:https://rotary-luganolago.org/fr/agenda/show/90662
DTSTART;TZID=Europe/Zurich:20181017T191500
DTEND;TZID=Europe/Zurich:20181017T191500
LOCATION:Hotel Villa Principe Leopoldo
CATEGORIES:Rotary
END:VEVENT
BEGIN:VTIMEZONE
TZID:Europe/Zurich
BEGIN:DAYLIGHT
DTSTART:20181017T191500
TZNAME:CEST
TZOFFSETTO:+0200
TZOFFSETFROM:+0200
END:DAYLIGHT
END:VTIMEZONE
END:VCALENDAR
