BEGIN:VCALENDAR
PRODID:-//eluceo/ical//2.0/EN
VERSION:2.0
CALSCALE:GREGORIAN
BEGIN:VEVENT
UID:2c8e450c87eef1eecb8b1e70ac92328d
DTSTAMP:20260424T083939Z
SUMMARY:Manifestazione pubblica - I 175 anni della Costituzione Federale
DESCRIPTION:Site internet: https://www.teatrosociale.ch/Il-nostro-teatro-d9
 5c6b00\nConférencier(s): CONVEGNO: STORIA E ATTUALITÀ DELLA LEGGE FONDAM
 ENTALE DEL PAESE
URL:https://rotary-luganolago.org/fr/agenda/show/164585
DTSTART;TZID=Europe/Zurich:20230930T150000
DTEND;TZID=Europe/Zurich:20230930T173000
LOCATION:Teatro Sociale - Piazza Governo 11\, 6500 Bellinzona
CATEGORIES:Rotary
END:VEVENT
BEGIN:VTIMEZONE
TZID:Europe/Zurich
BEGIN:DAYLIGHT
DTSTART:20230930T150000
TZNAME:CEST
TZOFFSETTO:+0200
TZOFFSETFROM:+0200
END:DAYLIGHT
END:VTIMEZONE
END:VCALENDAR
