BEGIN:VCALENDAR
PRODID:-//eluceo/ical//2.0/EN
VERSION:2.0
CALSCALE:GREGORIAN
BEGIN:VEVENT
UID:f9baeb32abe73c71c1ae9da9cc452d2c
DTSTAMP:20260420T110408Z
SUMMARY:Grotto Eguaglianza - Capolago
DESCRIPTION:Site internet: https://www.eguaglianza.ch/\nConférencier(s): P
 ROGRAMMA: CONVIVIO CON INFORMAZIONE ROTARIANA
URL:https://rotary-luganolago.org/fr/agenda/show/162464
DTSTART;TZID=Europe/Zurich:20230726T191500
DTEND;TZID=Europe/Zurich:20230726T213000
LOCATION:Via Municipio 20 - 6825 Capolago
CATEGORIES:Rotary
END:VEVENT
BEGIN:VTIMEZONE
TZID:Europe/Zurich
BEGIN:DAYLIGHT
DTSTART:20230726T191500
TZNAME:CEST
TZOFFSETTO:+0200
TZOFFSETFROM:+0200
END:DAYLIGHT
END:VTIMEZONE
END:VCALENDAR
