BEGIN:VCALENDAR
PRODID:-//eluceo/ical//2.0/EN
VERSION:2.0
CALSCALE:GREGORIAN
BEGIN:VEVENT
UID:6d2cf13b31e29cda1256a44cfedb68a0
DTSTAMP:20260420T155046Z
SUMMARY:Visita alla Masseria 2 con Rotary Lugano
DESCRIPTION:Site internet: https://www.lugano.ch/la-mia-citta/progetti-e-ca
 mpagne/progetti/recupero-masseria-cornaredo/\nConférencier(s): Programma
  18.00 – 19.30    \narrivo e vista del cantiere della Masseria (qua
 si finito)19.30 – 20.00    \nbenvenuto ed una presentazione da Fra M
 artino\, Stefano Frei\, Arch. Roberto\nMarcon20.00 – 21.00    \nbuff
 et\n\n\n\n\n\n\n\n\n\n21.00 – 21.30     caffè e\nchiusura
URL:https://rotary-luganolago.org/fr/agenda/show/159320
DTSTART;TZID=Europe/Zurich:20230619T180000
DTEND;TZID=Europe/Zurich:20230619T213000
LOCATION:Masseria di Cornaredo
CATEGORIES:Rotary
END:VEVENT
BEGIN:VTIMEZONE
TZID:Europe/Zurich
BEGIN:DAYLIGHT
DTSTART:20230619T180000
TZNAME:CEST
TZOFFSETTO:+0200
TZOFFSETFROM:+0200
END:DAYLIGHT
END:VTIMEZONE
END:VCALENDAR
