BEGIN:VCALENDAR
PRODID:-//eluceo/ical//2.0/EN
VERSION:2.0
CALSCALE:GREGORIAN
BEGIN:VEVENT
UID:1113cd3def3770d6f18378cf38f95e54
DTSTAMP:20260423T062628Z
SUMMARY:Imprese innovative in Ticino
DESCRIPTION:Site internet: http://www.leopoldohotel.com\nConférencier(s): 
 Luca Bolzani\, Presidente associazione AgireAndrea Gehri
URL:https://rotary-luganolago.org/fr/agenda/show/149964
DTSTART;TZID=Europe/Zurich:20221005T191500
DTEND;TZID=Europe/Zurich:20221005T223000
LOCATION:Hotel Villa Principe Leopoldo\, Via Montalbano 5\, 6900 Lugano
CATEGORIES:Rotary
END:VEVENT
BEGIN:VTIMEZONE
TZID:Europe/Zurich
BEGIN:DAYLIGHT
DTSTART:20221005T191500
TZNAME:CEST
TZOFFSETTO:+0200
TZOFFSETFROM:+0200
END:DAYLIGHT
END:VTIMEZONE
END:VCALENDAR
