BEGIN:VCALENDAR
PRODID:-//eluceo/ical//2.0/EN
VERSION:2.0
CALSCALE:GREGORIAN
BEGIN:VEVENT
UID:54da1d7b2d176daa217baf319cd6b871
DTSTAMP:20260423T080731Z
SUMMARY:Passaggio dei poteri
DESCRIPTION:Site internet: http://www.leopoldohotel.com
URL:https://rotary-luganolago.org/fr/agenda/show/139520
DTSTART;TZID=Europe/Zurich:20220622T191500
DTEND;TZID=Europe/Zurich:20220622T191500
LOCATION:Hotel Villa Principe Leopoldo\, Via Montalbano 5\, 6900 Lugano
CATEGORIES:Rotary
END:VEVENT
BEGIN:VTIMEZONE
TZID:Europe/Zurich
BEGIN:DAYLIGHT
DTSTART:20220622T191500
TZNAME:CEST
TZOFFSETTO:+0200
TZOFFSETFROM:+0200
END:DAYLIGHT
END:VTIMEZONE
END:VCALENDAR
