BEGIN:VCALENDAR
PRODID:-//eluceo/ical//2.0/EN
VERSION:2.0
CALSCALE:GREGORIAN
BEGIN:VEVENT
UID:f8ffda65a175934911ffd1b342b819ce
DTSTAMP:20260422T030226Z
SUMMARY:Convivio
DESCRIPTION:Site internet: http://www.leopoldohotel.com
URL:https://rotary-luganolago.org/fr/agenda/show/138431
DTSTART;TZID=Europe/Zurich:20220223T121500
DTEND;TZID=Europe/Zurich:20220223T133000
LOCATION:Hotel Villa Principe Leopoldo\, Via Montalbano 5\, 6900 Lugano
CATEGORIES:Rotary
END:VEVENT
BEGIN:VTIMEZONE
TZID:Europe/Zurich
BEGIN:STANDARD
DTSTART:20220223T121500
TZNAME:CET
TZOFFSETTO:+0100
TZOFFSETFROM:+0100
END:STANDARD
END:VTIMEZONE
END:VCALENDAR
