BEGIN:VCALENDAR
PRODID:-//eluceo/ical//2.0/EN
VERSION:2.0
CALSCALE:GREGORIAN
BEGIN:VEVENT
UID:bc21258eb2d7a515b70274e2da3c84e0
DTSTAMP:20260422T001117Z
SUMMARY:ANNULLATO
DESCRIPTION:Site internet: http://www.leopoldohotel.com
URL:https://rotary-luganolago.org/fr/agenda/show/138428
DTSTART;TZID=Europe/Zurich:20220209T121500
DTEND;TZID=Europe/Zurich:20220209T133000
LOCATION:Hotel Villa Principe Leopoldo\, Via Montalbano 5\, 6900 Lugano
CATEGORIES:Rotary
END:VEVENT
BEGIN:VTIMEZONE
TZID:Europe/Zurich
BEGIN:STANDARD
DTSTART:20220209T121500
TZNAME:CET
TZOFFSETTO:+0100
TZOFFSETFROM:+0100
END:STANDARD
END:VTIMEZONE
END:VCALENDAR
