BEGIN:VCALENDAR
PRODID:-//eluceo/ical//2.0/EN
VERSION:2.0
CALSCALE:GREGORIAN
BEGIN:VEVENT
UID:93c10297e44e69ec13e5aa4b6f103de8
DTSTAMP:20260421T224434Z
SUMMARY:ONLINE: conoscere il RC Zürich International
DESCRIPTION:Conférencier(s): Dario Piccardi\, Presidente
URL:https://rotary-luganolago.org/fr/agenda/show/138426
DTSTART;TZID=Europe/Zurich:20220202T183000
DTEND;TZID=Europe/Zurich:20220202T190000
LOCATION:Zoom
CATEGORIES:Rotary
END:VEVENT
BEGIN:VTIMEZONE
TZID:Europe/Zurich
BEGIN:STANDARD
DTSTART:20220202T183000
TZNAME:CET
TZOFFSETTO:+0100
TZOFFSETFROM:+0100
END:STANDARD
END:VTIMEZONE
END:VCALENDAR
