BEGIN:VCALENDAR
PRODID:-//eluceo/ical//2.0/EN
VERSION:2.0
CALSCALE:GREGORIAN
BEGIN:VEVENT
UID:25ea64f0ceb65c1e90865a0fba6bf9c7
DTSTAMP:20260421T132727Z
SUMMARY:Convivio
DESCRIPTION:Site internet: http://www.leopoldohotel.com
URL:https://rotary-luganolago.org/fr/agenda/show/130474
DTSTART;TZID=Europe/Zurich:20210825T191500
DTEND;TZID=Europe/Zurich:20210825T220000
LOCATION:Hotel Villa Principe Leopoldo\, Via Montalbano 5\, 6900 Lugano
CATEGORIES:Rotary
END:VEVENT
BEGIN:VTIMEZONE
TZID:Europe/Zurich
BEGIN:DAYLIGHT
DTSTART:20210825T191500
TZNAME:CEST
TZOFFSETTO:+0200
TZOFFSETFROM:+0200
END:DAYLIGHT
END:VTIMEZONE
END:VCALENDAR
