BEGIN:VCALENDAR
PRODID:-//eluceo/ical//2.0/EN
VERSION:2.0
CALSCALE:GREGORIAN
BEGIN:VEVENT
UID:241032dfe97bd5513534de6de32b017f
DTSTAMP:20260425T114538Z
SUMMARY:Convivio - presentazione programma I semestre
DESCRIPTION:Sitio web: https://doodle.com/poll/rpn3huzcktvhv3ii\nOrador(es)
 : Marco Somaschini
URL:https://rotary-luganolago.org/es/agenda/show/99413
DTSTART;TZID=Europe/Zurich:20190703T191500
DTEND;TZID=Europe/Zurich:20190703T220000
LOCATION:Hotel Villa Principe Leopoldo
CATEGORIES:Rotary
END:VEVENT
BEGIN:VTIMEZONE
TZID:Europe/Zurich
BEGIN:DAYLIGHT
DTSTART:20190703T191500
TZNAME:CEST
TZOFFSETTO:+0200
TZOFFSETFROM:+0200
END:DAYLIGHT
END:VTIMEZONE
END:VCALENDAR
