BEGIN:VCALENDAR
PRODID:-//eluceo/ical//2.0/EN
VERSION:2.0
CALSCALE:GREGORIAN
BEGIN:VEVENT
UID:1a88c36472b24dc32b5580f9ccc7b2f8
DTSTAMP:20260424T172452Z
SUMMARY:Seminario azione professionale
DESCRIPTION:Sitio web: https://www.rotary1980.ch/it/activities/agenda/96949
 /berufsdienst-workshop
URL:https://rotary-luganolago.org/es/agenda/show/97227
DTSTART;TZID=Europe/Zurich:20190506T180000
DTEND;TZID=Europe/Zurich:20190506T203000
LOCATION:Olten
CATEGORIES:Rotary
END:VEVENT
BEGIN:VTIMEZONE
TZID:Europe/Zurich
BEGIN:DAYLIGHT
DTSTART:20190506T180000
TZNAME:CEST
TZOFFSETTO:+0200
TZOFFSETFROM:+0200
END:DAYLIGHT
END:VTIMEZONE
END:VCALENDAR
