BEGIN:VCALENDAR
PRODID:-//eluceo/ical//2.0/EN
VERSION:2.0
CALSCALE:GREGORIAN
BEGIN:VEVENT
UID:bc3010e06912959a75f2fd8658f9a9ae
DTSTAMP:20260424T170944Z
SUMMARY:Incontro RC Ticinesi con deputazione Ticinese a Berna
DESCRIPTION:Maggiori informazioni seguiranno
URL:https://rotary-luganolago.org/es/agenda/show/97224
DTSTART;TZID=Europe/Zurich:20190510T000000
DTEND;TZID=Europe/Zurich:20190510T000000
LOCATION:Caserma del Monteceneri
CATEGORIES:Rotary
END:VEVENT
BEGIN:VTIMEZONE
TZID:Europe/Zurich
BEGIN:DAYLIGHT
DTSTART:20190510T000000
TZNAME:CEST
TZOFFSETTO:+0200
TZOFFSETFROM:+0200
END:DAYLIGHT
END:VTIMEZONE
END:VCALENDAR
