BEGIN:VCALENDAR
PRODID:-//eluceo/ical//2.0/EN
VERSION:2.0
CALSCALE:GREGORIAN
BEGIN:VEVENT
UID:fb0948f8a67f11b17385a073c2777392
DTSTAMP:20260421T133712Z
SUMMARY:Rotary Corner
DESCRIPTION:Aperto ai Partner e ospiti
URL:https://rotary-luganolago.org/es/agenda/show/96810
DTSTART;TZID=Europe/Zurich:20190627T183000
DTEND;TZID=Europe/Zurich:20190627T183000
LOCATION:Ristorante Olimpia\, Piazza Riforma\, Lugano
CATEGORIES:Rotary
END:VEVENT
BEGIN:VTIMEZONE
TZID:Europe/Zurich
BEGIN:DAYLIGHT
DTSTART:20190627T183000
TZNAME:CEST
TZOFFSETTO:+0200
TZOFFSETFROM:+0200
END:DAYLIGHT
END:VTIMEZONE
END:VCALENDAR
