BEGIN:VCALENDAR
PRODID:-//eluceo/ical//2.0/EN
VERSION:2.0
CALSCALE:GREGORIAN
BEGIN:VEVENT
UID:d93627fbc9c5eae7a31ee7a057791beb
DTSTAMP:20260421T133228Z
SUMMARY:Convivio
DESCRIPTION:Sitio web: https://doodle.com/poll/bc393mat8nstgpi7
URL:https://rotary-luganolago.org/es/agenda/show/93127
DTSTART;TZID=Europe/Zurich:20190626T121500
DTEND;TZID=Europe/Zurich:20190626T121500
LOCATION:Hotel Villa Principe Leopoldo
CATEGORIES:Rotary
END:VEVENT
BEGIN:VTIMEZONE
TZID:Europe/Zurich
BEGIN:DAYLIGHT
DTSTART:20190626T121500
TZNAME:CEST
TZOFFSETTO:+0200
TZOFFSETFROM:+0200
END:DAYLIGHT
END:VTIMEZONE
END:VCALENDAR
