BEGIN:VCALENDAR
PRODID:-//eluceo/ical//2.0/EN
VERSION:2.0
CALSCALE:GREGORIAN
BEGIN:VEVENT
UID:7bd3b8d161b85fca675c64b9b2d0cce6
DTSTAMP:20260421T133509Z
SUMMARY:Convivio
DESCRIPTION:Sitio web: https://doodle.com/poll/uukftssh99hu77kv
URL:https://rotary-luganolago.org/es/agenda/show/93125
DTSTART;TZID=Europe/Zurich:20190612T121500
DTEND;TZID=Europe/Zurich:20190612T121500
LOCATION:Hotel Villa Principe Leopoldo
CATEGORIES:Rotary
END:VEVENT
BEGIN:VTIMEZONE
TZID:Europe/Zurich
BEGIN:DAYLIGHT
DTSTART:20190612T121500
TZNAME:CEST
TZOFFSETTO:+0200
TZOFFSETFROM:+0200
END:DAYLIGHT
END:VTIMEZONE
END:VCALENDAR
