BEGIN:VCALENDAR
PRODID:-//eluceo/ical//2.0/EN
VERSION:2.0
CALSCALE:GREGORIAN
BEGIN:VEVENT
UID:f58fceb9495eebc651cdbe78717c3e6f
DTSTAMP:20260424T143122Z
SUMMARY:Gita a Monaco
DESCRIPTION:Aperto ai Partner
URL:https://rotary-luganolago.org/es/agenda/show/93121
DTSTART;TZID=Europe/Zurich:20190509T000000
DTEND;TZID=Europe/Zurich:20190512T000000
LOCATION:Hotel Villa Principe Leopoldo
CATEGORIES:Rotary
END:VEVENT
BEGIN:VTIMEZONE
TZID:Europe/Zurich
BEGIN:DAYLIGHT
DTSTART:20190509T000000
TZNAME:CEST
TZOFFSETTO:+0200
TZOFFSETFROM:+0200
END:DAYLIGHT
END:VTIMEZONE
END:VCALENDAR
