BEGIN:VCALENDAR
PRODID:-//eluceo/ical//2.0/EN
VERSION:2.0
CALSCALE:GREGORIAN
BEGIN:VEVENT
UID:0966fe3d1a9a34f89277494df1f9e7dc
DTSTAMP:20260424T183642Z
SUMMARY:Decade - Picchetto
DESCRIPTION:
URL:https://rotary-luganolago.org/es/agenda/show/93118
DTSTART;TZID=Europe/Zurich:20190501T191500
DTEND;TZID=Europe/Zurich:20190501T191500
LOCATION:Hotel Villa Principe Leopoldo
CATEGORIES:Rotary
END:VEVENT
BEGIN:VTIMEZONE
TZID:Europe/Zurich
BEGIN:DAYLIGHT
DTSTART:20190501T191500
TZNAME:CEST
TZOFFSETTO:+0200
TZOFFSETFROM:+0200
END:DAYLIGHT
END:VTIMEZONE
END:VCALENDAR
