BEGIN:VCALENDAR
PRODID:-//eluceo/ical//2.0/EN
VERSION:2.0
CALSCALE:GREGORIAN
BEGIN:VEVENT
UID:7a531d0965cd26450c7f63554227c08e
DTSTAMP:20260421T123038Z
SUMMARY:Convivio
DESCRIPTION:Sitio web: https://doodle.com/poll/6qv2c8wx3zhaa5hw
URL:https://rotary-luganolago.org/es/agenda/show/93098
DTSTART;TZID=Europe/Zurich:20190515T191500
DTEND;TZID=Europe/Zurich:20190515T191500
LOCATION:Hotel Villa Principe Leopoldo
CATEGORIES:Rotary
END:VEVENT
BEGIN:VTIMEZONE
TZID:Europe/Zurich
BEGIN:DAYLIGHT
DTSTART:20190515T191500
TZNAME:CEST
TZOFFSETTO:+0200
TZOFFSETFROM:+0200
END:DAYLIGHT
END:VTIMEZONE
END:VCALENDAR
