BEGIN:VCALENDAR
PRODID:-//eluceo/ical//2.0/EN
VERSION:2.0
CALSCALE:GREGORIAN
BEGIN:VEVENT
UID:248100a5664f944ca0534318769525ed
DTSTAMP:20260422T075327Z
SUMMARY:Il Gruppo di Lavoro Insubrico
DESCRIPTION:Sitio web: http://www.leopoldohotel.com\nOrador(es): RELATORE: 
 FRANCO NEGRI (RC LUGANO)
URL:https://rotary-luganolago.org/es/agenda/show/162483
DTSTART;TZID=Europe/Zurich:20230823T191500
DTEND;TZID=Europe/Zurich:20230823T211500
LOCATION:Hotel Villa Principe Leopoldo\, Via Montalbano 5\, 6900 Lugano
CATEGORIES:Rotary
END:VEVENT
BEGIN:VTIMEZONE
TZID:Europe/Zurich
BEGIN:DAYLIGHT
DTSTART:20230823T191500
TZNAME:CEST
TZOFFSETTO:+0200
TZOFFSETFROM:+0200
END:DAYLIGHT
END:VTIMEZONE
END:VCALENDAR
