BEGIN:VCALENDAR
PRODID:-//eluceo/ical//2.0/EN
VERSION:2.0
CALSCALE:GREGORIAN
BEGIN:VEVENT
UID:32f5e6f144aab097b9d8069874d85a44
DTSTAMP:20260422T043229Z
SUMMARY:In Vetta con il Club - Monte San Salvatore
DESCRIPTION:Sitio web: https://www.montesansalvatore.ch/gastronomia-e-congr
 essi/ristorante-vetta/\nOrador(es): PROGRAMMA: CONVIVIO CON INFORMAZIONE R
 OTARIANA
URL:https://rotary-luganolago.org/es/agenda/show/162460
DTSTART;TZID=Europe/Zurich:20230719T184000
DTEND;TZID=Europe/Zurich:20230719T220000
LOCATION:Ristorante Vetta San Salvatore
CATEGORIES:Rotary
END:VEVENT
BEGIN:VTIMEZONE
TZID:Europe/Zurich
BEGIN:DAYLIGHT
DTSTART:20230719T184000
TZNAME:CEST
TZOFFSETTO:+0200
TZOFFSETFROM:+0200
END:DAYLIGHT
END:VTIMEZONE
END:VCALENDAR
