BEGIN:VCALENDAR
PRODID:-//eluceo/ical//2.0/EN
VERSION:2.0
CALSCALE:GREGORIAN
BEGIN:VEVENT
UID:fe258c3cff1d6b005725534572d10f66
DTSTAMP:20260422T043256Z
SUMMARY:Alla scoperta del 2023-2024 - Agenda\, temi\, progetti\, obiettivi
DESCRIPTION:Sitio web: http://www.leopoldohotel.com\nOrador(es): PROGRAMMA:
  IL CALENDARIO 2023-2024
URL:https://rotary-luganolago.org/es/agenda/show/161811
DTSTART;TZID=Europe/Zurich:20230705T191500
DTEND;TZID=Europe/Zurich:20230705T213000
LOCATION:Hotel Villa Principe Leopoldo\, Via Montalbano 5\, 6900 Lugano
CATEGORIES:Rotary
END:VEVENT
BEGIN:VTIMEZONE
TZID:Europe/Zurich
BEGIN:DAYLIGHT
DTSTART:20230705T191500
TZNAME:CEST
TZOFFSETTO:+0200
TZOFFSETFROM:+0200
END:DAYLIGHT
END:VTIMEZONE
END:VCALENDAR
