BEGIN:VCALENDAR
PRODID:-//eluceo/ical//2.0/EN
VERSION:2.0
CALSCALE:GREGORIAN
BEGIN:VEVENT
UID:65bc9befcd13c7c369f8187a3323606c
DTSTAMP:20260424T112540Z
SUMMARY:Passaggio dei poteri
DESCRIPTION:Sitio web: http://www.leopoldohotel.com\nOrador(es): Programma:
  Aperitivo dalle ore 19 - Cena e cerimonia dalle ore 20
URL:https://rotary-luganolago.org/es/agenda/show/159322
DTSTART;TZID=Europe/Zurich:20230621T190000
DTEND;TZID=Europe/Zurich:20230621T220000
LOCATION:Hotel Villa Principe Leopoldo\, Via Montalbano 5\, 6900 Lugano
CATEGORIES:Rotary
END:VEVENT
BEGIN:VTIMEZONE
TZID:Europe/Zurich
BEGIN:DAYLIGHT
DTSTART:20230621T190000
TZNAME:CEST
TZOFFSETTO:+0200
TZOFFSETFROM:+0200
END:DAYLIGHT
END:VTIMEZONE
END:VCALENDAR
