BEGIN:VCALENDAR
PRODID:-//eluceo/ical//2.0/EN
VERSION:2.0
CALSCALE:GREGORIAN
BEGIN:VEVENT
UID:9b9a519307596863d321f4549d5ba8db
DTSTAMP:20260421T182802Z
SUMMARY:Conferenza "Moda in Ticino" - Bollito misto
DESCRIPTION:Sitio web: http://www.leopoldohotel.com\nOrador(es): Marina Mas
 oni
URL:https://rotary-luganolago.org/es/agenda/show/132438
DTSTART;TZID=Europe/Zurich:20211201T191500
DTEND;TZID=Europe/Zurich:20211201T220000
LOCATION:Hotel Villa Principe Leopoldo\, Via Montalbano 5\, 6900 Lugano
CATEGORIES:Rotary
END:VEVENT
BEGIN:VTIMEZONE
TZID:Europe/Zurich
BEGIN:STANDARD
DTSTART:20211201T191500
TZNAME:CET
TZOFFSETTO:+0100
TZOFFSETFROM:+0100
END:STANDARD
END:VTIMEZONE
END:VCALENDAR
