BEGIN:VCALENDAR
PRODID:-//eluceo/ical//2.0/EN
VERSION:2.0
CALSCALE:GREGORIAN
BEGIN:VEVENT
UID:af4c2bc3437d35ffb751eba670277ff4
DTSTAMP:20260421T170734Z
SUMMARY:Prolusione Alessandro Pasquali
DESCRIPTION:Sitio web: http://www.leopoldohotel.com\nOrador(es): 
URL:https://rotary-luganolago.org/es/agenda/show/132436
DTSTART;TZID=Europe/Zurich:20211117T191500
DTEND;TZID=Europe/Zurich:20211117T220000
LOCATION:Hotel Villa Principe Leopoldo\, Via Montalbano 5\, 6900 Lugano
CATEGORIES:Rotary
END:VEVENT
BEGIN:VTIMEZONE
TZID:Europe/Zurich
BEGIN:STANDARD
DTSTART:20211117T191500
TZNAME:CET
TZOFFSETTO:+0100
TZOFFSETFROM:+0100
END:STANDARD
END:VTIMEZONE
END:VCALENDAR
