BEGIN:VCALENDAR
PRODID:-//eluceo/ical//2.0/EN
VERSION:2.0
CALSCALE:GREGORIAN
BEGIN:VEVENT
UID:c8912993a23903c255713c188908e6f0
DTSTAMP:20260421T200816Z
SUMMARY:Convivio - Training progetto "Affiancare le Startup in Ticino"
DESCRIPTION:Sitio web: http://www.leopoldohotel.com
URL:https://rotary-luganolago.org/es/agenda/show/132433
DTSTART;TZID=Europe/Zurich:20211103T191500
DTEND;TZID=Europe/Zurich:20211103T220000
LOCATION:Hotel Villa Principe Leopoldo\, Via Montalbano 5\, 6900 Lugano
CATEGORIES:Rotary
END:VEVENT
BEGIN:VTIMEZONE
TZID:Europe/Zurich
BEGIN:STANDARD
DTSTART:20211103T191500
TZNAME:CET
TZOFFSETTO:+0100
TZOFFSETFROM:+0100
END:STANDARD
END:VTIMEZONE
END:VCALENDAR
