BEGIN:VCALENDAR
PRODID:-//eluceo/ical//2.0/EN
VERSION:2.0
CALSCALE:GREGORIAN
BEGIN:VEVENT
UID:ab38cbd89ff2bf05f2348f563a7a3ef8
DTSTAMP:20260421T153145Z
SUMMARY:Convivio
DESCRIPTION:Sitio web: http://www.leopoldohotel.com
URL:https://rotary-luganolago.org/es/agenda/show/130485
DTSTART;TZID=Europe/Zurich:20211027T121500
DTEND;TZID=Europe/Zurich:20211027T133000
LOCATION:Hotel Villa Principe Leopoldo\, Via Montalbano 5\, 6900 Lugano
CATEGORIES:Rotary
END:VEVENT
BEGIN:VTIMEZONE
TZID:Europe/Zurich
BEGIN:DAYLIGHT
DTSTART:20211027T121500
TZNAME:CEST
TZOFFSETTO:+0200
TZOFFSETFROM:+0200
END:DAYLIGHT
END:VTIMEZONE
END:VCALENDAR
