BEGIN:VCALENDAR
PRODID:-//eluceo/ical//2.0/EN
VERSION:2.0
CALSCALE:GREGORIAN
BEGIN:VEVENT
UID:a4b8b15548610ce6f7854f311fed328b
DTSTAMP:20260421T153357Z
SUMMARY:Celebrazione del 30esimo RCLL
DESCRIPTION:Sitio web: http://www.leopoldohotel.com
URL:https://rotary-luganolago.org/es/agenda/show/130484
DTSTART;TZID=Europe/Zurich:20211020T180000
DTEND;TZID=Europe/Zurich:20211020T220000
LOCATION:Hotel Villa Principe Leopoldo\, Via Montalbano 5\, 6900 Lugano
CATEGORIES:Rotary
END:VEVENT
BEGIN:VTIMEZONE
TZID:Europe/Zurich
BEGIN:DAYLIGHT
DTSTART:20211020T180000
TZNAME:CEST
TZOFFSETTO:+0200
TZOFFSETFROM:+0200
END:DAYLIGHT
END:VTIMEZONE
END:VCALENDAR
