BEGIN:VCALENDAR
PRODID:-//eluceo/ical//2.0/EN
VERSION:2.0
CALSCALE:GREGORIAN
BEGIN:VEVENT
UID:7d6bc4749656693df592da778f5a8a5e
DTSTAMP:20260423T163223Z
SUMMARY:La Velia: da MIT a Lugano
DESCRIPTION:Sitio web: http://www.leopoldohotel.com\nOrador(es): Lance Bovr
 ansky
URL:https://rotary-luganolago.org/es/agenda/show/130470
DTSTART;TZID=Europe/Zurich:20210901T191500
DTEND;TZID=Europe/Zurich:20210901T220000
LOCATION:Hotel Villa Principe Leopoldo\, Via Montalbano 5\, 6900 Lugano
CATEGORIES:Rotary
END:VEVENT
BEGIN:VTIMEZONE
TZID:Europe/Zurich
BEGIN:DAYLIGHT
DTSTART:20210901T191500
TZNAME:CEST
TZOFFSETTO:+0200
TZOFFSETFROM:+0200
END:DAYLIGHT
END:VTIMEZONE
END:VCALENDAR
