BEGIN:VCALENDAR
PRODID:-//eluceo/ical//2.0/EN
VERSION:2.0
CALSCALE:GREGORIAN
BEGIN:VEVENT
UID:8b4dd6792c0d89c1b63b299f7af2141d
DTSTAMP:20260423T131751Z
SUMMARY:InterClub con Rotaract Ticino
DESCRIPTION:Webseite: http://www.leopoldohotel.com\nReferenten/innen: PROGR
 AMMA: INCONTRO CON IL ROTARACT
URL:https://rotary-luganolago.org/de/agenda/show/163837
DTSTART;TZID=Europe/Zurich:20230906T191500
DTEND;TZID=Europe/Zurich:20230906T213000
LOCATION:Hotel Villa Principe Leopoldo\, Via Montalbano 5\, 6900 Lugano
CATEGORIES:Rotary
END:VEVENT
BEGIN:VTIMEZONE
TZID:Europe/Zurich
BEGIN:DAYLIGHT
DTSTART:20230906T191500
TZNAME:CEST
TZOFFSETTO:+0200
TZOFFSETFROM:+0200
END:DAYLIGHT
END:VTIMEZONE
END:VCALENDAR
