BEGIN:VCALENDAR
PRODID:-//eluceo/ical//2.0/EN
VERSION:2.0
CALSCALE:GREGORIAN
BEGIN:VEVENT
UID:7b0de9362ed889f3cdb89ab347b14f95
DTSTAMP:20260424T091842Z
SUMMARY:Convivio e informazione rotariana
DESCRIPTION:Web stranica: http://www.leopoldohotel.com\nGovornik(ci): PROGR
 AMMA: LA NEWSLETTER MENSILE DEL GOVERNATORE  
URL:https://rotary-luganolago.org/bs/agenda/show/166678
DTSTART;TZID=Europe/Zurich:20231115T191500
DTEND;TZID=Europe/Zurich:20231115T213000
LOCATION:Hotel Villa Principe Leopoldo\, Via Montalbano 5\, 6900 Lugano
CATEGORIES:Rotary
END:VEVENT
BEGIN:VTIMEZONE
TZID:Europe/Zurich
BEGIN:STANDARD
DTSTART:20231115T191500
TZNAME:CET
TZOFFSETTO:+0100
TZOFFSETFROM:+0100
END:STANDARD
END:VTIMEZONE
END:VCALENDAR
