BEGIN:VCALENDAR
PRODID:-//eluceo/ical//2.0/EN
VERSION:2.0
CALSCALE:GREGORIAN
BEGIN:VEVENT
UID:605a5208284cb5bcccf7ceaa9f5d3c97
DTSTAMP:20260424T084517Z
SUMMARY:Masseria della Solidarietà - L'inaugurazione
DESCRIPTION:Web stranica: https://lugano-lago.rotary1980.ch/it/\nGovornik(c
 i): PROGRAMMA: SALUTI UFFICIALI\, APERITIVO\, VISITA DELLA STRUTTURA\, MOS
 TRA
URL:https://rotary-luganolago.org/bs/agenda/show/166252
DTSTART;TZID=Europe/Zurich:20231004T121500
DTEND;TZID=Europe/Zurich:20231004T150000
LOCATION:Masseria di Cornaredo
CATEGORIES:Rotary
END:VEVENT
BEGIN:VTIMEZONE
TZID:Europe/Zurich
BEGIN:DAYLIGHT
DTSTART:20231004T121500
TZNAME:CEST
TZOFFSETTO:+0200
TZOFFSETFROM:+0200
END:DAYLIGHT
END:VTIMEZONE
END:VCALENDAR
