BEGIN:VCALENDAR
PRODID:-//eluceo/ical//2.0/EN
VERSION:2.0
CALSCALE:GREGORIAN
BEGIN:VEVENT
UID:419b6168e22e7a246779fb05b466df6b
DTSTAMP:20260422T210629Z
SUMMARY:Il Club e LuganoNetWork: un progetto comune - Lo scambio giovani de
 l Rotary
DESCRIPTION:Web stranica: http://www.leopoldohotel.com\nGovornik(ci): RELAT
 ORI: SERGIO AURELI (LUGANO/NET/WORK) - MARCO TAUSEL (RC LUGANO)
URL:https://rotary-luganolago.org/bs/agenda/show/163836
DTSTART;TZID=Europe/Zurich:20230830T191500
DTEND;TZID=Europe/Zurich:20230830T213000
LOCATION:Hotel Villa Principe Leopoldo\, Via Montalbano 5\, 6900 Lugano
CATEGORIES:Rotary
END:VEVENT
BEGIN:VTIMEZONE
TZID:Europe/Zurich
BEGIN:DAYLIGHT
DTSTART:20230830T191500
TZNAME:CEST
TZOFFSETTO:+0200
TZOFFSETFROM:+0200
END:DAYLIGHT
END:VTIMEZONE
END:VCALENDAR
