BEGIN:VCALENDAR
PRODID:-//eluceo/ical//2.0/EN
VERSION:2.0
CALSCALE:GREGORIAN
BEGIN:VEVENT
UID:f00ca52119cdb61315b11f444c50fa01
DTSTAMP:20260423T064622Z
SUMMARY:Convivio
DESCRIPTION:Web stranica: http://www.leopoldohotel.com
URL:https://rotary-luganolago.org/bs/agenda/show/139519
DTSTART;TZID=Europe/Zurich:20220615T191500
DTEND;TZID=Europe/Zurich:20220615T213000
LOCATION:Hotel Villa Principe Leopoldo\, Via Montalbano 5\, 6900 Lugano
CATEGORIES:Rotary
END:VEVENT
BEGIN:VTIMEZONE
TZID:Europe/Zurich
BEGIN:DAYLIGHT
DTSTART:20220615T191500
TZNAME:CEST
TZOFFSETTO:+0200
TZOFFSETFROM:+0200
END:DAYLIGHT
END:VTIMEZONE
END:VCALENDAR
