BEGIN:VCALENDAR
PRODID:-//eluceo/ical//2.0/EN
VERSION:2.0
CALSCALE:GREGORIAN
BEGIN:VEVENT
UID:b4b5b37b71f99cd335f273a5dd537622
DTSTAMP:20260423T090908Z
SUMMARY:Convivio
DESCRIPTION:Web stranica: http://www.leopoldohotel.com
URL:https://rotary-luganolago.org/bs/agenda/show/130483
DTSTART;TZID=Europe/Zurich:20211013T121500
DTEND;TZID=Europe/Zurich:20211013T133000
LOCATION:Hotel Villa Principe Leopoldo\, Via Montalbano 5\, 6900 Lugano
CATEGORIES:Rotary
END:VEVENT
BEGIN:VTIMEZONE
TZID:Europe/Zurich
BEGIN:DAYLIGHT
DTSTART:20211013T121500
TZNAME:CEST
TZOFFSETTO:+0200
TZOFFSETFROM:+0200
END:DAYLIGHT
END:VTIMEZONE
END:VCALENDAR
