BEGIN:VCALENDAR
PRODID:-//eluceo/ical//2.0/EN
VERSION:2.0
CALSCALE:GREGORIAN
BEGIN:VEVENT
UID:29218fabb47926f8bee3e8f870316215
DTSTAMP:20260423T103633Z
SUMMARY:Visita Street Art e cena di caccia
DESCRIPTION:
URL:https://rotary-luganolago.org/bs/agenda/show/130480
DTSTART;TZID=Europe/Zurich:20210929T180000
DTEND;TZID=Europe/Zurich:20210929T220000
LOCATION:Riva San Vitale
CATEGORIES:Rotary
END:VEVENT
BEGIN:VTIMEZONE
TZID:Europe/Zurich
BEGIN:DAYLIGHT
DTSTART:20210929T180000
TZNAME:CEST
TZOFFSETTO:+0200
TZOFFSETFROM:+0200
END:DAYLIGHT
END:VTIMEZONE
END:VCALENDAR
